BEGIN:VCALENDAR
PRODID:Nexudus
VERSION:2.0
BEGIN:VTIMEZONE
TZID:America/New_York
X-LIC-LOCATION:America/New_York
BEGIN:STANDARD
DTSTART:20241103T020000
RRULE:FREQ=YEARLY;BYDAY=1SU;BYMONTH=11
TZNAME:EST
TZOFFSETFROM:-0400
TZOFFSETTO:-0500
END:STANDARD
BEGIN:DAYLIGHT
DTSTART:20250309T020000
RRULE:FREQ=YEARLY;BYDAY=2SU;BYMONTH=3
TZNAME:EDT
TZOFFSETFROM:-0500
TZOFFSETTO:-0400
END:DAYLIGHT
END:VTIMEZONE
BEGIN:VEVENT
DESCRIPTION:Brunch season at Spring Place has started again. Join us for Sa
 turday Brunch\, of course on our beautiful Terrace which the NY Times call
 s "NYC's hottest commodity".\nEvent link: https://springplaceny.spaces.nex
 udus.com/en/events/view/1414913747/rooftop-brunch\n
DTEND;TZID=America/New_York:20210424T160000
DTSTAMP:20260420T181001Z
DTSTART;TZID=America/New_York:20210424T110000
LOCATION:Spring Place New York
SEQUENCE:0
SUMMARY:ROOFTOP BRUNCH
UID:e1a9e5aa-091c-46ee-91f4-f8ccee28544f
END:VEVENT
END:VCALENDAR
